BEGIN:VCALENDAR
VERSION:2.0
PRODID:-//http://localhost/content/des/en/Events ICS//EN
CALSCALE:GREGORIAN
X-WR-TIMEZONE:Pacific/Auckland
METHOD:PUBLISH
BEGIN:VEVENT
DESCRIPTION;CHARSET=UTF-8:Professor Hyttinen will be presenting a seminar titled\, 'Modelling Neurona
 l-Astrocyte Systems from in-vitro to in-silico'.
SUMMARY;CHARSET=UTF-8:SEMINAR: Professor Jari Hyttinen
STATUS:confirmed
LOCATION:Room G10\, 70 Symonds Street
ORGANISER:
UID:http://localhost/content/des/en/about/newseventsandnotices/events/events-2017/engsci-seminar.html
DTSTART:20171110T110000
DTEND:20171110T120000
CREATED:20160331T152600
LAST-MODIFIED:20171102T093500
CATEGORIES;CHARSET=UTF-8:
END:VEVENT
END:VCALENDAR