BEGIN:VCALENDAR
VERSION:2.0
PRODID:-//http://localhost/content/des/en/Events ICS//EN
CALSCALE:GREGORIAN
X-WR-TIMEZONE:Pacific/Auckland
METHOD:PUBLISH
BEGIN:VEVENT
DESCRIPTION;CHARSET=UTF-8:The 13th EMAC will be held in Auckland\, New Zealand from 29th November - 1
 st December. Abstract submissions open in June.
SUMMARY;CHARSET=UTF-8:13th Engineering Mathematics and Applications Conference
STATUS:confirmed
LOCATION:n/a
ORGANISER:
UID:http://localhost/content/des/en/about/newseventsandnotices/events/events-2017/EMG-conference.html
DTSTART:20171129T000000
DTEND:20171201T010000
CREATED:20170202T122000
LAST-MODIFIED:20170202T131100
CATEGORIES;CHARSET=UTF-8:
END:VEVENT
END:VCALENDAR