BEGIN:VCALENDAR
VERSION:2.0
PRODID:-//http://localhost/content/des/en/Events ICS//EN
CALSCALE:GREGORIAN
X-WR-TIMEZONE:Pacific/Auckland
METHOD:PUBLISH
BEGIN:VEVENT
DESCRIPTION;CHARSET=UTF-8:A call for submissions is open for this conference to be held at the Univer
 sity in December.
SUMMARY;CHARSET=UTF-8:9th Asia-Pacific Conference on Wind Engineering
STATUS:confirmed
LOCATION:Owen G Glenn Building\, University of Auckland
ORGANISER:
UID:http://localhost/content/des/en/about/newseventsandnotices/events/events-2017/APCWE-IX.html
DTSTART:20171203T000000
DTEND:20171203T010000
CREATED:20170202T153700
LAST-MODIFIED:20170202T154000
CATEGORIES;CHARSET=UTF-8:
END:VEVENT
END:VCALENDAR